BEGIN:VCALENDAR
VERSION:2.0
PRODID:-//InvisionCommunity Events 4.7.23//EN
METHOD:PUBLISH
CALSCALE:GREGORIAN
REFRESH-INTERVAL:PT15M
X-PUBLISHED-TTL:PT15M
X-WR-CALNAME:Eventos
NAME:Eventos
BEGIN:VTIMEZONE
TZID:Europe/London
TZURL:http://tzurl.org/zoneinfo/Europe/London
X-LIC-LOCATION:Europe/London
BEGIN:DAYLIGHT
TZOFFSETFROM:+0000
TZOFFSETTO:+0100
TZNAME:BST
DTSTART:20200329T020000Z
RRULE:FREQ=YEARLY;BYMONTH=3;BYDAY=-1SU
END:DAYLIGHT
BEGIN:STANDARD
TZOFFSETFROM:+0100
TZOFFSETTO:+0000
TZNAME:GMT
DTSTART:20201025T020000Z
RRULE:FREQ=YEARLY;BYMONTH=10;BYDAY=-1SU
END:STANDARD
END:VTIMEZONE
BEGIN:VEVENT
SUMMARY:vuelos de practica
DTSTAMP:20200706T093300Z
SEQUENCE:0
UID:395-5-62d5b5219bcecbbd949b589700a7450a@universo-lf.net
ORGANIZER;CN="ReaperStealth":administracion@universo-lf.net
DESCRIPTION:\n	estare practicando la face de vuelo y el usaf f-16 viper 
	demo por si gustan unirse a practicar\, quedamos\, saludos!!!\n
DTSTART;VALUE=DATE:20200707
END:VEVENT
END:VCALENDAR
